BEGIN:VCALENDAR
VERSION:2.0
PRODID:-//jEvents 2.0 for Joomla//EN
CALSCALE:GREGORIAN
METHOD:PUBLISH
BEGIN:VEVENT
UID:e7c685fc7140dea844a4d2dfaae898c9
CATEGORIES:Public Days
CREATED:20170523T182439
SUMMARY:Public Days 11:00 am until 7:00 pm
DESCRIPTION:\n
X-ALT-DESC;FMTTYPE=text/html:<p><!-- START: Snippets --><!--  Snippets Message: The snippet cannot be pl
 aced because it is not enabled. --><!-- END: Snippets --></p>
DTSTAMP:20260421T172748
DTSTART:20170707T150000
DTEND:20170707T230000
SEQUENCE:0
TRANSP:OPAQUE
END:VEVENT
END:VCALENDAR