BEGIN:VCALENDAR
VERSION:2.0
PRODID:-//jEvents 2.0 for Joomla//EN
CALSCALE:GREGORIAN
METHOD:PUBLISH
BEGIN:VEVENT
UID:c5695c43e4215d74851d5d8b327fa513
CATEGORIES:Public Days
CREATED:20170523T182339
SUMMARY:Public Days 11:00 am until 7:00 pm
DESCRIPTION:\n
X-ALT-DESC;FMTTYPE=text/html:<p><!-- START: Snippets --><!--  Snippets Message: The snippet cannot be pl
 aced because it is not enabled. --><!-- END: Snippets --></p>
DTSTAMP:20260421T172748
DTSTART:20170713T150000
DTEND:20170713T230000
SEQUENCE:0
TRANSP:OPAQUE
END:VEVENT
END:VCALENDAR