BEGIN:VCALENDAR
VERSION:2.0
PRODID:-//jEvents 2.0 for Joomla//EN
CALSCALE:GREGORIAN
METHOD:PUBLISH
BEGIN:VEVENT
UID:03b10593f489d71b234e91a4c3695734
CATEGORIES:Public Days
CREATED:20161108T162737
SUMMARY:September 2nd & 3rd Public Days
DESCRIPTION:\n
X-ALT-DESC;FMTTYPE=text/html:<p><!-- START: Snippets --><!--  Snippets Message: The snippet cannot be pl
 aced because it is not enabled. --><!-- END: Snippets --></p>
DTSTAMP:20260421T172748
DTSTART:20170902T150000
DTEND:20170902T210000
SEQUENCE:0
TRANSP:OPAQUE
END:VEVENT
END:VCALENDAR