BEGIN:VCALENDAR
VERSION:2.0
PRODID:-//jEvents 2.0 for Joomla//EN
CALSCALE:GREGORIAN
METHOD:PUBLISH
BEGIN:VEVENT
UID:b88a5b633fcb4439fc893040d2ce7e4d
CATEGORIES:Public Days
CREATED:20161108T162521
SUMMARY:Memorial Day weekend May 27th & 28th
DESCRIPTION:<p><!-- START: Snippets --><!--  Snippets Message: The snippet cannot be pl
 aced because it is not enabled. --><!-- END: Snippets --></p>
DTSTAMP:20260421T173627
DTSTART:20170527T150000
DTEND:20170527T210000
SEQUENCE:0
TRANSP:OPAQUE
END:VEVENT
END:VCALENDAR