BEGIN:VCALENDAR
VERSION:2.0
PRODID:-//jEvents 2.0 for Joomla//EN
CALSCALE:GREGORIAN
METHOD:PUBLISH
BEGIN:VEVENT
UID:fcfa5ba232c03768acd87293b166e9d8
CATEGORIES:Public Days
CREATED:20161108T161107
SUMMARY:Public Days 11:00 am until 7:00 pm
DESCRIPTION:<p><!-- START: Snippets --><!--  Snippets Message: The snippet cannot be pl
 aced because it is not enabled. --><!-- END: Snippets --></p>
DTSTAMP:20260421T173627
DTSTART:20170830T150000
DTEND:20170830T230000
SEQUENCE:0
TRANSP:OPAQUE
END:VEVENT
END:VCALENDAR