BEGIN:VCALENDAR
VERSION:2.0
PRODID:-//jEvents 2.0 for Joomla//EN
CALSCALE:GREGORIAN
METHOD:PUBLISH
BEGIN:VEVENT
UID:d3812b2782a62aa4f07a8af57eed60bc
CATEGORIES:Cruise in
CREATED:20260421T190205
SUMMARY:Cruise In
DESCRIPTION:
DTSTAMP:20260424T093641
DTSTART;VALUE=DATE:20260619
DTEND;VALUE=DATE:20260620
SEQUENCE:0
TRANSP:OPAQUE
END:VEVENT
END:VCALENDAR