BEGIN:VCALENDAR
VERSION:2.0
PRODID:-//jEvents 2.0 for Joomla//EN
CALSCALE:GREGORIAN
METHOD:PUBLISH
BEGIN:VEVENT
UID:ec1039ae6c92651354f3f81a6278bd27
CATEGORIES:Closed
CREATED:20170807T153213
SUMMARY:Winter OFFICE - Closed
DESCRIPTION:<p>OFFICE CLOSED</p><p><!-- START: Snippets --><p>Please call to book your 
 company or family event.&nbsp;Phone: 360-882-4444 Tours of the park can be 
 made by appointment only.</p><!-- END: Snippets --></p>
DTSTAMP:20260419T150532
DTSTART;VALUE=DATE:20190330
DTEND;VALUE=DATE:20190331
SEQUENCE:0
TRANSP:OPAQUE
END:VEVENT
END:VCALENDAR