BEGIN:VCALENDAR
VERSION:2.0
PRODID:-//jEvents 2.0 for Joomla//EN
CALSCALE:GREGORIAN
METHOD:PUBLISH
BEGIN:VEVENT
UID:e7c685fc7140dea844a4d2dfaae898c9
CATEGORIES:Public Days
CREATED:19691231T190000
SUMMARY:Public Days 11:00 am until 7:00 pm
DESCRIPTION:<p>{snippet publicdates}</p>
DTSTAMP:20260421T173627
DTSTART:20170602T150000
DTEND:20170602T230000
SEQUENCE:0
RRULE:FREQ=WEEKLY;UNTIL=20170904T000000Z;INTERVAL=1;BYDAY=FR
TRANSP:OPAQUE
END:VEVENT
END:VCALENDAR