BEGIN:VCALENDAR
VERSION:2.0
PRODID:-//jEvents 2.0 for Joomla//EN
CALSCALE:GREGORIAN
METHOD:PUBLISH
BEGIN:VEVENT
UID:fcfa5ba232c03768acd87293b166e9d8
CATEGORIES:Public Days
CREATED:19691231T190000
SUMMARY:Public Days 11:00 am until 7:00 pm
DESCRIPTION:{snippet publicdates}\n
X-ALT-DESC;FMTTYPE=text/html:<p>{snippet publicdates}</p>
DTSTAMP:20260421T172748
DTSTART:20170531T150000
DTEND:20170531T230000
SEQUENCE:0
RRULE:FREQ=WEEKLY;UNTIL=20170904T000000Z;INTERVAL=1;BYDAY=WE
TRANSP:OPAQUE
END:VEVENT
END:VCALENDAR