BEGIN:VCALENDAR
VERSION:2.0
PRODID:-//jEvents 2.0 for Joomla//EN
CALSCALE:GREGORIAN
METHOD:PUBLISH
BEGIN:VEVENT
UID:d3812b2782a62aa4f07a8af57eed60bc
CATEGORIES:Cruise in
CREATED:19691231T190000
SUMMARY:Cruise In
DESCRIPTION:
DTSTAMP:20260424T093930
DTSTART;VALUE=DATE:20260522
DTEND;VALUE=DATE:20260523
SEQUENCE:0
RRULE:FREQ=WEEKLY;UNTIL=20260911T000000Z;INTERVAL=1;BYDAY=FR
TRANSP:OPAQUE
END:VEVENT
END:VCALENDAR