BEGIN:VCALENDAR
VERSION:2.0
PRODID:-//jEvents 2.0 for Joomla//EN
CALSCALE:GREGORIAN
METHOD:PUBLISH
BEGIN:VEVENT
UID:4c08222f798d95af786438b5ef83ee6e
CATEGORIES:Oktoberfest
CREATED:20260421T180428
SUMMARY:Oktoberfest 2026
DESCRIPTION:<p><a href="index.php?Itemid=1839">Get the details</a></p>
X-ALT-DESC;FMTTYPE=text/html:<p><a href="https://alderbrookparkevents.com/index.php?Itemid=1839">Get the
  details</a></p>
DTSTAMP:20260424T094521
DTSTART;VALUE=DATE:20260926
DTEND;VALUE=DATE:20260927
SEQUENCE:0
TRANSP:OPAQUE
END:VEVENT
END:VCALENDAR