BEGIN:VCALENDAR
VERSION:2.0
PRODID:-//jEvents 2.0 for Joomla//EN
CALSCALE:GREGORIAN
METHOD:PUBLISH
BEGIN:VEVENT
UID:01693dfa7406a0c428200cc3ef4174dd
CATEGORIES:Public Days
CREATED:20240816T194811
SUMMARY:Dream Machine Car Show
DESCRIPTION:
X-ALT-DESC;FMTTYPE=text/html:<div class="pagebuilderck pagebuilderck1"></div>
DTSTAMP:20260420T172639
DTSTART:20240922T170000
DTEND:20240922T220000
SEQUENCE:0
TRANSP:OPAQUE
END:VEVENT
END:VCALENDAR