BEGIN:VCALENDAR
VERSION:2.0
PRODID:-//jEvents 2.0 for Joomla//EN
CALSCALE:GREGORIAN
METHOD:PUBLISH
BEGIN:VEVENT
UID:197c2b3a6e7a757ce401d1095e45aaa3
CATEGORIES:Oktoberfest
CREATED:20230327T152127
SUMMARY:Oktoberfest 2023
DESCRIPTION:<p><div class="pagebuilderck pagebuilderck9"></div></p>
DTSTAMP:20260420T104750
DTSTART;VALUE=DATE:20230930
DTEND;VALUE=DATE:20231001
SEQUENCE:0
TRANSP:OPAQUE
END:VEVENT
END:VCALENDAR