BEGIN:VCALENDAR
VERSION:2.0
PRODID:-//jEvents 2.0 for Joomla//EN
CALSCALE:GREGORIAN
METHOD:PUBLISH
BEGIN:VEVENT
UID:1ad6c48ef7ffe4f06a73f8def42e02c9
CATEGORIES:Haunted House
CREATED:20191009T181351
SUMMARY:HAUNTED HOUSE
DESCRIPTION:<p><a href="index.php?option=com_content&amp;view=article&amp;id=51&amp;Ite
 mid=837">Click here for details</a></p>
X-ALT-DESC;FMTTYPE=text/html:<p><a href="https://alderbrookparkevents.com/index.php?option=com_content&a
 mp;view=article&amp;id=51&amp;Itemid=837">Click here for details</a></p>
DTSTAMP:20260422T130901
DTSTART:20191019T200000
DTEND:20191019T040000
SEQUENCE:0
TRANSP:OPAQUE
END:VEVENT
END:VCALENDAR