BEGIN:VCALENDAR
VERSION:2.0
PRODID:-//jEvents 2.0 for Joomla//EN
CALSCALE:GREGORIAN
METHOD:PUBLISH
BEGIN:VEVENT
UID:8f7cf6599da03af1e28ba6405ec5fafb
CATEGORIES:Haunted House
CREATED:20191009T181102
SUMMARY:HAUNTED HOUSE
DESCRIPTION:Click here for details (index.php?option=com_content&amp;view=article&amp;i
 d=51&amp;Itemid=837)\n
X-ALT-DESC;FMTTYPE=text/html:<p><a href="https://alderbrookparkevents.com/index.php?option=com_content&a
 mp;view=article&amp;id=51&amp;Itemid=837">Click here for details</a></p>
DTSTAMP:20260422T125759
DTSTART:20191013T200000
DTEND:20191014T010000
SEQUENCE:0
TRANSP:OPAQUE
END:VEVENT
END:VCALENDAR