BEGIN:VCALENDAR
VERSION:2.0
PRODID:-//jEvents 2.0 for Joomla//EN
CALSCALE:GREGORIAN
METHOD:PUBLISH
BEGIN:VEVENT
UID:8f37be9028731ad32fbb7f4f93473098
CATEGORIES:Public Days
CREATED:20190607T220411
SUMMARY:OPEN to the Public
DESCRIPTION:
DTSTAMP:20260419T202637
DTSTART:20190608T150000
DTEND:20190608T210000
SEQUENCE:0
TRANSP:OPAQUE
END:VEVENT
END:VCALENDAR