BEGIN:VCALENDAR
VERSION:2.0
PRODID:-//jEvents 2.0 for Joomla//EN
CALSCALE:GREGORIAN
METHOD:PUBLISH
BEGIN:VEVENT
UID:8a7c7b1b50069054664f9c0c5be13e1a
CATEGORIES:Closed
CREATED:20190502T171145
SUMMARY:Closed for Hockinson Days
DESCRIPTION:
DTSTAMP:20260419T190634
DTSTART:20190601T120000
DTEND:20190601T210000
SEQUENCE:0
TRANSP:OPAQUE
END:VEVENT
END:VCALENDAR